Workbook

Sheet COVER PAGE
A2: STYLE: | C2: OHPD4184 | H2: DELIVERY:
A3: DESCRIPTION: | C3: BACK ON THE BLOCK CUT OUT BLAZER DRESS | H3: SIZE RANGE: | J3: 0, 2, 4, 6, 8, 10, 12 AMERICAN
A4: SEASON: | C4: LINE 1-2022 | H4: CREATED ON: | J4: 44689
A5: DESIGNER: | H5: FIT APPROVED ON: | J5: 44689
A6: TECH DESIGNER: | C6: LISA BURKE | H6: PATTERN MAKER: | J6: LISA BURKE
A7: PRODUCT DEVELOPER: | H7: VENDOR:
A8: FRONT AND BACK SKETCH | H8: DATE | I8: NOTES | N8: BY
H9: 44324 | I9: Techpack Created | N9: LISA

Sheet BOM
A1: BOM
A2: STYLE: | C2: ='COVER PAGE'!C2:G2 -> OHPD4184 | H2: DELIVERY: | J2: ='COVER PAGE'!J2:N2 -> 0
A3: DESCRIPTION: | C3: ='COVER PAGE'!C3:G3 -> BACK ON THE BLOCK CUT OUT BLAZER DRESS | H3: SIZE RANGE: | J3: ='COVER PAGE'!J3:N3 -> 0, 2, 4, 6, 8, 10, 12 AMERICAN
A4: SEASON: | C4: ='COVER PAGE'!C4:G4 -> LINE 1-2022 | H4: CREATED ON: | J4: ='COVER PAGE'!J4:N4 -> 44689
A5: DESIGNER: | C5: ='COVER PAGE'!C5:G5 -> 0 | H5: FIT APPROVED ON: | J5: ='COVER PAGE'!J5:N5 -> 44689
A6: TECH DESIGNER: | C6: ='COVER PAGE'!C6:G6 -> LISA BURKE | H6: PATTERN MAKER: | J6: ='COVER PAGE'!J6:N6 -> LISA BURKE
A7: PRODUCT DEVELOPER: | C7: ='COVER PAGE'!C7:G7 -> 0 | H7: VENDOR: | J7: ='COVER PAGE'!J7:N7 -> 0
A8: COLOR COMBO NAME: | I8: COLOR COMBO 1 | J8: COLOR COMBO 2 | K8: COLOR COMBO 3 | L8: COLOR COMBO 4 | M8: COLOR COMBO 5 | N8: COLOR COMBO 6
A9: SELF (A) | B9: NAME:
B10: VENDOR:
B11: CONTENT:
B12: WEIGHT AND WIDTH:
B13: PLACEMENT:
A14: WASH | B14: NAME:
B15: PLACEMENT:
A16: CONT. (1) | B16: NAME:
B17: VENDOR:
B18: CONTENT:
B19: WEIGHT AND WIDTH:
B20: PLACEMENT:
A21: CONT. (2) | B21: NAME:
B22: VENDOR:
B23: CONTENT:
B24: WEIGHT AND WIDTH:
B25: PLACEMENT:
A26: THREAD | B26: TYPE: | D26: 100% COTTON or POLY | F26: TEX 40 | G26: 12 SPI
B27: PLACEMENT:
B28: TYPE: | D28: 100% COTTON or POLY | F28: TEX 40 | G28: 12 SPI
B29: PLACEMENT:
B30: TYPE: | D30: 100% COTTON or POLY | F30: TEX 40 | G30: 12 SPI
B31: PLACEMENT:
A32: TRIM 1 | B32: DESCRIPTION:
B33: VENDOR:
B34: SIZE:
B35: QUANTITY:
B36: PLACEMENT:
A37: TRIM 2 | B37: DESCRIPTION:
B38: VENDOR:
B39: SIZE:
B40: QUANTITY:
...

Sheet BOM (2)
A1: BOM
A2: STYLE: | C2: ='COVER PAGE'!C2:G2 -> OHPD4184 | H2: DELIVERY: | J2: ='COVER PAGE'!J2:N2 -> 0
A3: DESCRIPTION: | C3: ='COVER PAGE'!C3:G3 -> BACK ON THE BLOCK CUT OUT BLAZER DRESS | H3: SIZE RANGE: | J3: ='COVER PAGE'!J3:N3 -> 0, 2, 4, 6, 8, 10, 12 AMERICAN
A4: SEASON: | C4: ='COVER PAGE'!C4:G4 -> LINE 1-2022 | H4: CREATED ON: | J4: ='COVER PAGE'!J4:N4 -> 44689
A5: DESIGNER: | C5: ='COVER PAGE'!C5:G5 -> 0 | H5: FIT APPROVED ON: | J5: ='COVER PAGE'!J5:N5 -> 44689
A6: TECH DESIGNER: | C6: ='COVER PAGE'!C6:G6 -> LISA BURKE | H6: PATTERN MAKER: | J6: ='COVER PAGE'!J6:N6 -> LISA BURKE
A7: PRODUCT DEVELOPER: | C7: ='COVER PAGE'!C7:G7 -> 0 | H7: VENDOR: | J7: ='COVER PAGE'!J7:N7 -> 0
A8: LABELS AND HANG TAGS
A9: MAIN LABEL | B9: VENDOR
B10: VENDOR CODE:
B11: DESCRIPTION:
B12: PLACEMENT:
A13: FIRE LABEL | B13: VENDOR
B14: VENDOR CODE:
B15: DESCRIPTION:
B16: PLACEMENT:
A17: CARE LABEL | B17: VENDOR
B18: VENDOR CODE:
B19: DESCRIPTION:
B20: PLACEMENT:
A21: HANG TAG | B21: VENDOR
B22: VENDOR CODE:
B23: DESCRIPTION:
B24: PLACEMENT:
A25: MISC | B25: VENDOR
B26: VENDOR CODE:
B27: DESCRIPTION:
B28: PLACEMENT:

Sheet PATTERN CARD
A1: -LISA BURKE TEST
A2: 981 S. WILTON PLACE LOS ANGELES, CA 90019
A3: Style: | C3: OHPD4184 | G3: Style Description: | K3: CUT OUT BLAZER DRESS
A4: Store: | G4: Size Range: | I4: 0, 2, 4, (6), 8, 10, 12 AMERICAN | N4: DESIGN
A5: Pattern Maker: | C5: LISA BURKE | G5: Ratio:
A6: Self: | C6: STRETCH SUITING FABRIC | G6: Cancel Date:
A7: Contrast # 1: | C7: STRETCH SUITING FABRIC | G7: Date: | I7: 44324
A8: Contrast # 2: | G8: Release Date:
A9: vendor: | G9: Color:
A10: Country of origin: | C10: USA | G10: Label: | L10: REFERENCE:
G11: SKETCH
A54: Pattern pieces: | D54: Size: (6) | F54: Seams:
B55: (SELF-STRETCH SUITING FABRIC | F55: 5-thread overlock all seams unless specified otherwise
A56: 4 | B56: 01 FRONT TOP (2 BLOCK FUSED)
A57: 4 | B57: 02 FRONT SKIRT
A58: 2 | B58: 03 FRONT POCKET
A59: 4 | B59: 04 FRONT POCKET FLAPS (BLOCK FUSED)
A60: 4 | B60: 05 SIDE BACK DRESS
A61: 4 | B61: 06 CB DRESS
A62: 2 | B62: 07 COLLAR (BLOCK FUSED)
A63: 4 | B63: 08 UPPER SLEEVE | H63: TRIM
A64: 4 | B64: 09 LOWER SLEEVE
B67: CONT 1 | F67: *** | G67: SHOULDR PADS X 2
C72: CONT 2
H74: SEND OUT WORK
B76: TEMPLATE

Sheet SWATCHES
A1: SWATCHES
A2: STYLE: | C2: ='COVER PAGE'!C2:G2 -> OHPD4184 | H2: DELIVERY: | J2: ='COVER PAGE'!J2:N2 -> 0
A3: DESCRIPTION: | C3: ='COVER PAGE'!C3:G3 -> BACK ON THE BLOCK CUT OUT BLAZER DRESS | H3: SIZE RANGE: | J3: ='COVER PAGE'!J3:N3 -> 0, 2, 4, 6, 8, 10, 12 AMERICAN
A4: SEASON: | C4: ='COVER PAGE'!C4:G4 -> LINE 1-2022 | H4: CREATED ON: | J4: ='COVER PAGE'!J4:N4 -> 44689
A5: DESIGNER: | C5: ='COVER PAGE'!C5:G5 -> 0 | H5: FIT APPROVED ON: | J5: ='COVER PAGE'!J5:N5 -> 44689
A6: TECH DESIGNER: | C6: ='COVER PAGE'!C6:G6 -> LISA BURKE | H6: PATTERN MAKER: | J6: ='COVER PAGE'!J6:N6 -> LISA BURKE
A7: PRODUCT DEVELOPER: | C7: ='COVER PAGE'!C7:G7 -> 0 | H7: VENDOR: | J7: ='COVER PAGE'!J7:N7 -> 0
A8: SWATCHES

Sheet LABELS AND PACKAGING
A1: LABELS AND PACKAGING
A2: STYLE: | C2: ='COVER PAGE'!C2:G2 -> OHPD4184 | H2: DELIVERY: | J2: ='COVER PAGE'!J2:N2 -> 0
A3: DESCRIPTION: | C3: ='COVER PAGE'!C3:G3 -> BACK ON THE BLOCK CUT OUT BLAZER DRESS | H3: SIZE RANGE: | J3: ='COVER PAGE'!J3:N3 -> 0, 2, 4, 6, 8, 10, 12 AMERICAN
A4: SEASON: | C4: ='COVER PAGE'!C4:G4 -> LINE 1-2022 | H4: CREATED ON: | J4: ='COVER PAGE'!J4:N4 -> 44689
A5: DESIGNER: | C5: ='COVER PAGE'!C5:G5 -> 0 | H5: FIT APPROVED ON: | J5: ='COVER PAGE'!J5:N5 -> 44689
A6: TECH DESIGNER: | C6: ='COVER PAGE'!C6:G6 -> LISA BURKE | H6: PATTERN MAKER: | J6: ='COVER PAGE'!J6:N6 -> LISA BURKE
A7: PRODUCT DEVELOPER: | C7: ='COVER PAGE'!C7:G7 -> 0 | H7: VENDOR: | J7: ='COVER PAGE'!J7:N7 -> 0
A8: SWATCHES

Sheet CONSTRUCTION
A1: CONSTRUCTION
A2: STYLE: | C2: ='COVER PAGE'!C2:G2 -> OHPD4184 | H2: DELIVERY: | J2: ='COVER PAGE'!J2:N2 -> 0
A3: DESCRIPTION: | C3: ='COVER PAGE'!C3:G3 -> BACK ON THE BLOCK CUT OUT BLAZER DRESS | H3: SIZE RANGE: | J3: ='COVER PAGE'!J3:N3 -> 0, 2, 4, 6, 8, 10, 12 AMERICAN
A4: SEASON: | C4: ='COVER PAGE'!C4:G4 -> LINE 1-2022 | H4: CREATED ON: | J4: ='COVER PAGE'!J4:N4 -> 44689
A5: DESIGNER: | C5: ='COVER PAGE'!C5:G5 -> 0 | H5: FIT APPROVED ON: | J5: ='COVER PAGE'!J5:N5 -> 44689
A6: TECH DESIGNER: | C6: ='COVER PAGE'!C6:G6 -> LISA BURKE | H6: PATTERN MAKER: | J6: ='COVER PAGE'!J6:N6 -> LISA BURKE
A7: PRODUCT DEVELOPER: | C7: ='COVER PAGE'!C7:G7 -> 0 | H7: VENDOR: | J7: ='COVER PAGE'!J7:N7 -> 0
A8: CONSTRUCTION
A9: FOLLOW PATTERN CARD

Sheet SPEC SHEET
A1: SPEC SHEET
A2: STYLE: | C2: ='COVER PAGE'!C2:G2 -> OHPD4184 | H2: DELIVERY: | J2: ='COVER PAGE'!J2:N2 -> 0
A3: DESCRIPTION: | C3: ='COVER PAGE'!C3:G3 -> BACK ON THE BLOCK CUT OUT BLAZER DRESS | H3: SIZE RANGE: | J3: ='COVER PAGE'!J3:N3 -> 0, 2, 4, 6, 8, 10, 12 AMERICAN
A4: SEASON: | C4: ='COVER PAGE'!C4:G4 -> LINE 1-2022 | H4: CREATED ON: | J4: ='COVER PAGE'!J4:N4 -> 44689
A5: DESIGNER: | C5: ='COVER PAGE'!C5:G5 -> 0 | H5: FIT APPROVED ON: | J5: ='COVER PAGE'!J5:N5 -> 44689
A6: TECH DESIGNER: | C6: ='COVER PAGE'!C6:G6 -> LISA BURKE | H6: PATTERN MAKER: | J6: ='COVER PAGE'!J6:N6 -> LISA BURKE
A7: PRODUCT DEVELOPER: | C7: ='COVER PAGE'!C7:G7 -> 0 | H7: VENDOR: | J7: ='COVER PAGE'!J7:N7 -> 0
A8: CODE | B8: POINTS OF MEASURE | E8: KNIT TOL +/- | F8: WOVEN TOL +/- | G8: 1ST PROTO | H8: REVISED SPECS | I8: 2ND PROTO SPECS | J8: PP SPECS | K8: PP SPECS REVISED
G9: 43874
B10: Shoulder Forward Seam from HPS @ Neck | E10: 0 | F10: 0 | G10: 0
B11: Shoulder Slope from HPS @ Shldr.Sm to Armhole | E11: 0.125 | F11: 0.125
B12: Body Length @ CF from HPS | E12: 0.625 | F12: 0.625
B13: Body Length @ CB from HPS | E13: 0.625 | F13: 0.375
B14: Neck Width @ HPS - Edge to Edge | E14: 0.25 | F14: 0.25
B15: Across Shoulder - Seam to Seam | E15: 0.5 | F15: 0.25
B16: Chest @ 1" below Armhole | E16: 0.5 | F16: 0.25
B17: Bottom Opening - Straight | E17: 0.5 | F17: 0.25
B18: Armhole Straight | E18: 0.375 | F18: 0.1875
B19: Back Neck Drop - From HPS - Edge / Seam | E19: 0.125 | F19: 0.125
B20: Front Neck Drop-From HPS | E20: 0.125 | F20: 0.125
B21: Across Waist | E21: 0.5 | F21: 0.25

Sheet FIT COMMENTS
A1: FIT COMMENTS
A2: STYLE: | C2: ='COVER PAGE'!C2:G2 -> OHPD4184 | H2: DELIVERY: | J2: ='COVER PAGE'!J2:N2 -> 0
A3: DESCRIPTION: | C3: ='COVER PAGE'!C3:G3 -> BACK ON THE BLOCK CUT OUT BLAZER DRESS | H3: SIZE RANGE: | J3: ='COVER PAGE'!J3:N3 -> 0, 2, 4, 6, 8, 10, 12 AMERICAN
A4: SEASON: | C4: ='COVER PAGE'!C4:G4 -> LINE 1-2022 | H4: CREATED ON: | J4: ='COVER PAGE'!J4:N4 -> 44689
A5: DESIGNER: | C5: ='COVER PAGE'!C5:G5 -> 0 | H5: FIT APPROVED ON: | J5: ='COVER PAGE'!J5:N5 -> 44689
A6: TECH DESIGNER: | C6: ='COVER PAGE'!C6:G6 -> LISA BURKE | H6: PATTERN MAKER: | J6: ='COVER PAGE'!J6:N6 -> LISA BURKE
A7: PRODUCT DEVELOPER: | C7: ='COVER PAGE'!C7:G7 -> 0 | H7: VENDOR: | J7: ='COVER PAGE'!J7:N7 -> 0
A8: FIT COMMENTS
A9: SAMPLE STATUS: | C9: APPROVED 5/8/2021
A10: NEXT SAMPLE: | C10: TOP | D10: RECEIVED ON:
A11: COLOR: | D11: FIT ON:
A12: FABRIC: | C12: STRETCH SUITING FABRIC | D12: COMMENTS ON: | F12: 44324

Sheet FIT PHOTOS
A1: FIT PHOTOS
A2: STYLE: | C2: ='COVER PAGE'!C2:G2 -> OHPD4184 | H2: DELIVERY: | J2: ='COVER PAGE'!J2:N2 -> 0
A3: DESCRIPTION: | C3: ='COVER PAGE'!C3:G3 -> BACK ON THE BLOCK CUT OUT BLAZER DRESS | H3: SIZE RANGE: | J3: ='COVER PAGE'!J3:N3 -> 0, 2, 4, 6, 8, 10, 12 AMERICAN
A4: SEASON: | C4: ='COVER PAGE'!C4:G4 -> LINE 1-2022 | H4: CREATED ON: | J4: ='COVER PAGE'!J4:N4 -> 44689
A5: DESIGNER: | C5: ='COVER PAGE'!C5:G5 -> 0 | H5: FIT APPROVED ON: | J5: ='COVER PAGE'!J5:N5 -> 44689
A6: TECH DESIGNER: | C6: ='COVER PAGE'!C6:G6 -> LISA BURKE | H6: PATTERN MAKER: | J6: ='COVER PAGE'!J6:N6 -> LISA BURKE
A7: PRODUCT DEVELOPER: | C7: ='COVER PAGE'!C7:G7 -> 0 | H7: VENDOR: | J7: ='COVER PAGE'!J7:N7 -> 0
A8: FIT PHOTOS

Sheet GRADES
A1: GRADES
A2: STYLE: | C2: ='COVER PAGE'!C2:G2 -> OHPD4184 | H2: DELIVERY: | J2: ='COVER PAGE'!J2:N2 -> 0
A3: DESCRIPTION: | C3: ='COVER PAGE'!C3:G3 -> BACK ON THE BLOCK CUT OUT BLAZER DRESS | H3: SIZE RANGE: | J3: ='COVER PAGE'!J3:N3 -> 0, 2, 4, 6, 8, 10, 12 AMERICAN
A4: SEASON: | C4: ='COVER PAGE'!C4:G4 -> LINE 1-2022 | H4: CREATED ON: | J4: ='COVER PAGE'!J4:N4 -> 44689
A5: DESIGNER: | C5: ='COVER PAGE'!C5:G5 -> 0 | H5: FIT APPROVED ON: | J5: ='COVER PAGE'!J5:N5 -> 44689
A6: TECH DESIGNER: | C6: ='COVER PAGE'!C6:G6 -> LISA BURKE | H6: PATTERN MAKER: | J6: ='COVER PAGE'!J6:N6 -> LISA BURKE
A7: PRODUCT DEVELOPER: | C7: ='COVER PAGE'!C7:G7 -> 0 | H7: VENDOR: | J7: ='COVER PAGE'!J7:N7 -> 0
A8: CODE | B8: POINTS OF MEASURE | D8: TOL +/_

Sheet SPEC HISTORY
A1: MEASUREMENT HISTORY | M1: FRONT AND BACK IMAGE
A2: Style Number | C2: ='COVER PAGE'!C2:G2 -> OHPD4184 | D2: Class | G2: 0, 2, 4, (6), 8, 10, 12
A3: Style Description | C3: ='COVER PAGE'!C3:G3 -> BACK ON THE BLOCK CUT OUT BLAZER DRESS | D3: Vendor | I3: OH POLLY
D7: Date | H7: Date | I7: 44324 | L7: Date
B8: POINT OF MEASURE (POM) | E8: Knit Tolerance +/- | F8: Woven Tolerance +/- | H8: 1st Fit Required: 6 | I8: Actual | J8: + / - | L8: 2nd Fit Required: 6 | M8: Actual | N8: + / - | P8: 3rd Fit Required: 6 | Q8: Actual | R8: + / - | U8: Bulk Production Measurements
B10: Shoulder Forward Seam from HPS @ Neck | E10: 0 | F10: 0 | H10: 0 | N10: 0
B11: Shoulder Slope from HPS @ Shldr.Sm to Armhole | E11: 0.125 | F11: 0.125 | N11: =M11-L11 -> 0
B12: Body Length @ CF from HPS | E12: 0.625 | F12: 0.625 | N12: =M12-L12 -> 0
B13: Body Length @ CB from HPS | E13: 0.625 | F13: 0.375 | N13: =M13-L13 -> 0
B14: Neck Width @ HPS - Edge to Edge | E14: 0.25 | F14: 0.25 | N14: =M14-L14 -> 0
B15: Across Shoulder - Seam to Seam | E15: 0.5 | F15: 0.25 | N15: =M15-L15 -> 0
B16: Chest @ 1" below Armhole | E16: 0.5 | F16: 0.25 | N16: =M16-L16 -> 0
B17: Bottom Opening - Straight | E17: 0.5 | F17: 0.25 | N17: =M17-L17 -> 0
B18: Armhole Straight | E18: 0.375 | F18: 0.1875 | N18: =M18-L18 -> 0
B19: Back Neck Drop - From HPS - Edge / Seam | E19: 0.125 | F19: 0.125 | N19: =M19-L19 -> 0
B20: Front Neck Drop-From HPS | E20: 0.125 | F20: 0.125 | N20: =M20-L20 -> 0
B21: Across Waist | E21: 0.5 | F21: 0.25 | N21: =M21-L21 -> 0
B22: Sleeve Length From Shoulder to Wrist | E22: 0.25 | F22: 0.25 | N22: =M22-L22 -> 0
N23: =M23-L23 -> 0
N24: =M24-L24 -> 0
N25: 0
N26: =M26-L26 -> 0
N27: =M27-L27 -> 0
N28: =M28-L28 -> 0
N29: =M29-L29 -> 0
N30: =M30-L30 -> 0
N31: =M31-L31 -> 0
N32: =M32-L32 -> 0
A38: THIS DOCUMENT SHOULD BE FILLED IN AT VENDOR LOCATION. MUST SUBMIT MEASURED SPEC VIA EMAIL FOR INPUT INTO COMPUTER SYSTEM. ALL MEASUREMENTS ARE QUOTED ON THE HALF AND IN INCHES

Sheet FINAL GRADES
A1: GRADED SPEC
A2: Style Number | C2: ='SPEC HISTORY'!C2 -> OHPD4184 | E2: Class | H2: 0, 2, 4, (6), 8, 10, 12
A3: Style Description | C3: ='SPEC HISTORY'!C3 -> BACK ON THE BLOCK CUT OUT BLAZER DRESS | E3: Vendor | J3: OH POLLY
B5: POINT OF MEASURE | E5: Knit Tolerance +/- | F5: Woven Tolerance +/- | G5: 0 | H5: 2 | I5: 4 | J5: 6 | K5: 8 | L5: 10 | M5: 12
B6: KNITS / WOVEN TOPS
B7: Shoulder Forward Seam from HPS @ Neck | E7: 0 | F7: 0 | G7: =+H7-0 -> 0 | H7: =+I7-0 -> 0 | I7: =+J7-0 -> 0 | J7: 0 | K7: =J7+0 -> 0 | L7: =K7+0 -> 0 | M7: =L7+0 -> 0
B8: Shoulder Slope from HPS @ Shldr.Sm to Armhole | E8: 0.125 | F8: 0.125 | G8: =+H8-0 -> 0 | H8: =+I8-0 -> 0 | I8: =+J8-0 -> 0 | K8: =J8+0 -> 0 | L8: =K8+0 -> 0 | M8: =L8+0 -> 0
B9: Body Length @ CF from HPS | E9: 0.625 | F9: 0.625 | G9: =H9-1 -> -3 | H9: =I9-1 -> -2 | I9: =J9-1 -> -1 | K9: =J9+1 -> 1 | L9: =K9+1 -> 2 | M9: =L9+1 -> 3
B10: Body Length @ CB from HPS | E10: 0.625 | F10: 0.375 | G10: =H10-1 -> -3 | H10: =I10-1 -> -2 | I10: =J10-1 -> -1 | K10: =J10+1 -> 1 | L10: =K10+1 -> 2 | M10: =L10+1 -> 3
B11: Neck Width @ HPS - Edge to Edge | E11: 0.25 | F11: 0.25 | G11: =H11-1/4 -> -0.75 | H11: =I11-1/4 -> -0.5 | I11: =J11-1/4 -> -0.25 | K11: =J11+1/4 -> 0.25 | L11: =K11+1/4 -> 0.5 | M11: =L11+1/4 -> 0.75
B12: Across Shoulder - Seam to Seam | E12: 0.5 | F12: 0.25 | G12: =H12-1/4 -> -0.75 | H12: =I12-1/4 -> -0.5 | I12: =J12-1/4 -> -0.25 | K12: =J12+1/4 -> 0.25 | L12: =K12+1/4 -> 0.5 | M12: =L12+1/4 -> 0.75
B13: Chest @ 1" below Armhole | E13: 0.5 | F13: 0.25 | G13: =H13-1.5 -> -4.5 | H13: =I13-1.5 -> -3 | I13: =J13-1.5 -> -1.5 | K13: =J13+1.5 -> 1.5 | L13: =K13+1.5 -> 3 | M13: =L13+1.5 -> 4.5
B14: Bottom Opening - Straight | E14: 0.5 | F14: 0.25 | G14: =H14-1.5 -> -4.5 | H14: =I14-1.5 -> -3 | I14: =J14-1.5 -> -1.5 | K14: =J14+1.5 -> 1.5 | L14: =K14+1.5 -> 3 | M14: =L14+1.5 -> 4.5
B15: Armhole Straight | E15: 0.375 | F15: 0.1875 | G15: =H15-1/4 -> -1 | H15: =I15-1/4 -> -0.75 | I15: =J15-1/2 -> -0.5 | K15: =J15+1/2 -> 0.5 | L15: =K15+1/2 -> 1 | M15: =L15+1/2 -> 1.5
B16: Back Neck Drop - From HPS - Edge / Seam | E16: 0.125 | F16: 0.125 | G16: =H16-1/8 -> -0.375 | H16: =I16-1/8 -> -0.25 | I16: =J16-1/8 -> -0.125 | K16: =J16+1/4 -> 0.25 | L16: =K16+1/4 -> 0.5 | M16: =L16+1/4 -> 0.75
B17: Front Neck Drop-From HPS | E17: 0.125 | F17: 0.125 | G17: =H17-1/8 -> -0.375 | H17: =I17-1/8 -> -0.25 | I17: =J17-1/8 -> -0.125 | K17: =J17+1/4 -> 0.25 | L17: =K17+1/4 -> 0.5 | M17: =L17+1/4 -> 0.75
B18: Across Waist | E18: 0.5 | F18: 0.25 | G18: =H18-1.5 -> -4.5 | H18: =I18-1.5 -> -3 | I18: =J18-1.5 -> -1.5 | K18: =J18+1.5 -> 1.5 | L18: =K18+1.5 -> 3 | M18: =L18+1.5 -> 4.5
B19: Sleeve Length From Shoulder to Wrist | E19: 0.25 | F19: 0.25 | G19: =H19-1/4 -> -0.75 | H19: =I19-1/4 -> -0.5 | I19: =J19-1/4 -> -0.25 | K19: =J19+1/4 -> 0.25 | L19: =K19+1/4 -> 0.5 | M19: =L19+1/4 -> 0.75
B34: DO NOT EDIT THIS PAGE FOR POM. ONLY EDIT GRADES IF MUST
