Workbook

Sheet COVER
A1: COVER PAGE
A2: STYLE NAME: | C2: LA BREA GOWN | E2: BRAND: | G2: LOVERS AND FRIENDS | I2: DATE | J2: NOTES | L2: BY
A3: STYLE #: | C3: ACD2208-H22 | E3: CAPSULE: | G3: BRAND | I3: 44693 | J3: TP CREATED | L3: MP
A4: TARGET DEL. MONTH: | C4: NOVEMBER | E4: DESIGNER: | G4: KENDRA | I4: 44771 | J4: CAD UPDATED | L4: EC
A5: BASE SIZE: | C5: S | E5: TECH DESIGNER: | G5: JACQIE
A6: SIZE RANGE: | C6: XXS-XL | E6: VENDOR: | G6: SPRINGTEX
A7: SKETCH & CONSTRUCTION CALL OUTS
A8: CAD ON CROQUIS | G8: REFERENCE IMAGE

Sheet CONSTRUCTION
A1: CONSTRUCTION PAGE
A2: STYLE NAME: | C2: =COVER!C2 -> LA BREA GOWN | E2: BRAND: | G2: =COVER!G2 -> LOVERS AND FRIENDS
A3: STYLE #: | C3: =COVER!C3 -> ACD2208-H22 | E3: CAPSULE: | G3: =COVER!G3 -> BRAND
A4: =COVER!A4 -> TARGET DEL. MONTH: | C4: =COVER!C4 -> NOVEMBER | E4: DESIGNER: | G4: =COVER!G4 -> KENDRA
A5: BASE SIZE: | C5: =COVER!C5 -> S | E5: TECH DESIGNER: | G5: =COVER!G5 -> JACQIE
A6: SIZE RANGE: | C6: =COVER!C6 -> XXS-XL | E6: VENDOR: | G6: =COVER!G6 -> SPRINGTEX

Sheet PANTY CONSTRUCTION
A1: CONSTRUCTION PAGE
A2: STYLE NAME: | C2: =COVER!C2 -> LA BREA GOWN | E2: BRAND: | G2: =COVER!G2 -> LOVERS AND FRIENDS
A3: STYLE #: | C3: =COVER!C3 -> ACD2208-H22 | E3: CAPSULE: | G3: =COVER!G3 -> BRAND
A4: =COVER!A4 -> TARGET DEL. MONTH: | C4: =COVER!C4 -> NOVEMBER | E4: DESIGNER: | G4: =COVER!G4 -> KENDRA
A5: BASE SIZE: | C5: =COVER!C5 -> S | E5: TECH DESIGNER: | G5: =COVER!G5 -> JACQIE
A6: SIZE RANGE: | C6: =COVER!C6 -> XXS-XL | E6: VENDOR: | G6: =COVER!G6 -> SPRINGTEX

Sheet 3D CONSTRUCTION
A1: CONSTRUCTION PAGE
A2: STYLE NAME: | C2: =COVER!C2 -> LA BREA GOWN | E2: BRAND: | G2: =COVER!G2 -> LOVERS AND FRIENDS
A3: STYLE #: | C3: =COVER!C3 -> ACD2208-H22 | E3: CAPSULE: | G3: =COVER!G3 -> BRAND
A4: =COVER!A4 -> TARGET DEL. MONTH: | C4: =COVER!C4 -> NOVEMBER | E4: DESIGNER: | G4: =COVER!G4 -> KENDRA
A5: BASE SIZE: | C5: =COVER!C5 -> S | E5: TECH DESIGNER: | G5: =COVER!G5 -> JACQIE
A6: SIZE RANGE: | C6: =COVER!C6 -> XXS-XL | E6: VENDOR: | G6: =COVER!G6 -> SPRINGTEX

Sheet FABRIC
A1: FABRIC
A2: STYLE NAME: | C2: =COVER!C2 -> LA BREA GOWN | E2: BRAND: | G2: =COVER!G2 -> LOVERS AND FRIENDS
A3: STYLE #: | C3: =COVER!C3 -> ACD2208-H22 | E3: CAPSULE: | G3: =COVER!G3 -> BRAND
A4: =COVER!A4 -> TARGET DEL. MONTH: | C4: =COVER!C4 -> NOVEMBER | E4: DESIGNER: | G4: =COVER!G4 -> KENDRA
A5: BASE SIZE: | C5: =COVER!C5 -> S | E5: TECH DESIGNER: | G5: =COVER!G5 -> JACQIE
A6: SIZE RANGE: | C6: =COVER!C6 -> XXS-XL | E6: VENDOR: | G6: =COVER!G6 -> SPRINGTEX
A7: FABRIC HEADERS

Sheet ARTWORK PLACEMENT
A1: ARTWORK PLACEMENT
A2: STYLE NAME: | C2: =COVER!C2 -> LA BREA GOWN | E2: BRAND: | G2: =COVER!G2 -> LOVERS AND FRIENDS
A3: STYLE #: | C3: =COVER!C3 -> ACD2208-H22 | E3: CAPSULE: | G3: =COVER!G3 -> BRAND
A4: =COVER!A4 -> TARGET DEL. MONTH: | C4: =COVER!C4 -> NOVEMBER | E4: DESIGNER: | G4: =COVER!G4 -> KENDRA
A5: BASE SIZE: | C5: =COVER!C5 -> S | E5: TECH DESIGNER: | G5: =COVER!G5 -> JACQIE
A6: SIZE RANGE: | C6: =COVER!C6 -> XXS-XL | E6: VENDOR: | G6: =COVER!G6 -> SPRINGTEX
A7: FABRIC HEADERS

Sheet ARTWORK COMMENTS
A1: ARTWORK COMMENTS
A2: STYLE NAME: | C2: =COVER!C2 -> LA BREA GOWN | E2: BRAND: | G2: =COVER!G2 -> LOVERS AND FRIENDS
A3: STYLE #: | C3: =COVER!C3 -> ACD2208-H22 | E3: CAPSULE: | G3: =COVER!G3 -> BRAND
A4: =COVER!A4 -> TARGET DEL. MONTH: | C4: =COVER!C4 -> NOVEMBER | E4: DESIGNER: | G4: =COVER!G4 -> KENDRA
A5: BASE SIZE: | C5: =COVER!C5 -> S | E5: TECH DESIGNER: | G5: =COVER!G5 -> JACQIE
A6: SIZE RANGE: | C6: =COVER!C6 -> XXS-XL | E6: VENDOR: | G6: =COVER!G6 -> SPRINGTEX
A7: FABRIC HEADERS

Sheet LINING
A1: LINING
A2: STYLE NAME: | C2: =COVER!C2 -> LA BREA GOWN | E2: BRAND: | G2: =COVER!G2 -> LOVERS AND FRIENDS
A3: STYLE #: | C3: =COVER!C3 -> ACD2208-H22 | E3: CAPSULE: | G3: =COVER!G3 -> BRAND
A4: =COVER!A4 -> TARGET DEL. MONTH: | C4: =COVER!C4 -> NOVEMBER | E4: DESIGNER: | G4: =COVER!G4 -> KENDRA
A5: BASE SIZE: | C5: =COVER!C5 -> S | E5: TECH DESIGNER: | G5: =COVER!G5 -> JACQIE
A6: SIZE RANGE: | C6: =COVER!C6 -> XXS-XL | E6: VENDOR: | G6: =COVER!G6 -> SPRINGTEX
A7: FABRIC HEADERS

Sheet TRIM
A1: TRIM PAGE
A2: STYLE NAME: | C2: =COVER!C2 -> LA BREA GOWN | E2: BRAND: | G2: =COVER!G2 -> LOVERS AND FRIENDS
A3: STYLE #: | C3: =COVER!C3 -> ACD2208-H22 | E3: CAPSULE: | G3: =COVER!G3 -> BRAND
A4: =COVER!A4 -> TARGET DEL. MONTH: | C4: =COVER!C4 -> NOVEMBER | E4: DESIGNER: | G4: =COVER!G4 -> KENDRA
A5: BASE SIZE: | C5: =COVER!C5 -> S | E5: TECH DESIGNER: | G5: =COVER!G5 -> JACQIE
A6: SIZE RANGE: | C6: =COVER!C6 -> XXS-XL | E6: VENDOR: | G6: =COVER!G6 -> SPRINGTEX

Sheet PANTY
A1: PANTY FABRIC
A2: STYLE NAME: | C2: =COVER!C2 -> LA BREA GOWN | E2: BRAND: | G2: =COVER!G2 -> LOVERS AND FRIENDS
A3: STYLE #: | C3: =COVER!C3 -> ACD2208-H22 | E3: CAPSULE: | G3: =COVER!G3 -> BRAND
A4: =COVER!A4 -> TARGET DEL. MONTH: | C4: =COVER!C4 -> NOVEMBER | E4: DESIGNER: | G4: =COVER!G4 -> KENDRA
A5: BASE SIZE: | C5: =COVER!C5 -> S | E5: TECH DESIGNER: | G5: =COVER!G5 -> JACQIE
A6: SIZE RANGE: | C6: =COVER!C6 -> XXS-XL | E6: VENDOR: | G6: =COVER!G6 -> SPRINGTEX
A7: FABRIC HEADERS

Sheet BOM 1
A1: BOM 1 of 3
A2: STYLE NAME: | C2: =COVER!C2 -> LA BREA GOWN | E2: BRAND: | G2: =COVER!G2 -> LOVERS AND FRIENDS
A3: STYLE #: | C3: =COVER!C3 -> ACD2208-H22 | E3: CAPSULE: | G3: =COVER!G3 -> BRAND
A4: =COVER!A4 -> TARGET DEL. MONTH: | C4: =COVER!C4 -> NOVEMBER | E4: DESIGNER: | G4: =COVER!G4 -> KENDRA
A5: BASE SIZE: | C5: =COVER!C5 -> S | E5: TECH DESIGNER: | G5: =COVER!G5 -> JACQIE
A6: SIZE RANGE: | C6: =COVER!C6 -> XXS-XL | E6: VENDOR: | G6: =COVER!G6 -> SPRINGTEX
A7: MATERIALS | H7: COLORWAY 1 | J7: COLORWAY 2 | L7: COLORWAY 3
A8: SELF | B8: FABRIC NAME: | D8: SATIN | H8: ROYAL BLUE (MATCH TO PANTONE 19-3954 TCX BLUING)
B9: FABRIC CODE: | D9: DQ145
B10: WASH / FINISH:
B11: PLACEMENT: | D11: SELF
B12: VENDOR: | D12: F&S
B13: SUPPLIER CONTACT INFO:
B14: NOTE:
A15: SELF 2 | B15: FABRIC NAME:
B16: FABRIC CODE:
B17: WASH / FINISH:
B18: PLACEMENT:
B19: VENDOR:
B20: SUPPLIER CONTACT INFO:
B21: NOTE:
A22: CONT. | B22: FABRIC NAME:
B23: FABRIC CODE:
B24: WASH / FINISH:
B25: PLACEMENT:
B26: VENDOR:
B27: SUPPLIER CONTACT INFO:
B28: NOTE:
A29: LINING | B29: FABRIC NAME: | D29: POLY CREPE DE CHINE | H29: MATCH TO SELF (PENDING APPROVAL)
B30: FABRIC CODE: | D30: TX5400
B31: WASH / FINISH:
B32: PLACEMENT: | D32: LINING
B33: VENDOR: | D33: WEIWEI TEXTILES
B34: SUPPLIER CONTACT INFO:
B35: NOTE:
A36: FUSIBLE | B36: FABRIC NAME:
B37: FABRIC CODE:
B38: WASH / FINISH:
B39: PLACEMENT:
B40: VENDOR:
B41: SUPPLIER CONTACT INFO:
B42: NOTE:
A43: NOTES:

Sheet BOM 2
A1: BOM 2 of 3
A2: STYLE NAME: | C2: =COVER!C2 -> LA BREA GOWN | E2: BRAND: | G2: =COVER!G2 -> LOVERS AND FRIENDS
A3: STYLE #: | C3: =COVER!C3 -> ACD2208-H22 | E3: CAPSULE: | G3: =COVER!G3 -> BRAND
A4: =COVER!A4 -> TARGET DEL. MONTH: | C4: =COVER!C4 -> NOVEMBER | E4: DESIGNER: | G4: =COVER!G4 -> KENDRA
A5: BASE SIZE: | C5: =COVER!C5 -> S | E5: TECH DESIGNER: | G5: =COVER!G5 -> JACQIE
A6: SIZE RANGE: | C6: =COVER!C6 -> XXS-XL | E6: VENDOR: | G6: =COVER!G6 -> SPRINGTEX
A7: THREAD
A8: THREAD | B8: TEX SIZE: | D8: 40 | H8: TOP STITCH THREAD | I8: TEX SIZE:
B9: FIBER CONTENT: | D9: POLY | F9: SPI: | I9: SPI:
B10: COLOR: | D10: DTM | I10: COLOR:
B11: PLACEMENT: | D11: ALL OVER | I11: PLACEMENT:
A12: MATERIALS | H12: COLORWAY 1
A13: TRIM 1 | B13: TRIM NAME: | D13: #3 CONCEAL CLOSED-END ZIPPER WITH "DA" AUTOLOCK SLIDER IN "E" FINISH | H13: MATCH TO SELF (PENDING APPROVAL)
B14: TRIM CODE: | D14: DA
B15: SIZE: | D15: 3CC
B16: QUANTITY: | D16: 1 PC
B17: PLACEMENT: | D17: CB SEAM
B18: VENDOR: | D18: YKK
B19: SUPPLIER CONTACT INFO:
A20: TRIM 2 | B20: TRIM NAME: | D20: METAL HOOK AND EYE | H20: SILVER
B21: TRIM CODE:
B22: SIZE: | D22: MINI
B23: QUANTITY: | D23: 1 SET
B24: PLACEMENT: | D24: ZIPPER TOP EDGE
B25: VENDOR: | D25: VENDOR SOURCED
B26: SUPPLIER CONTACT INFO:
A27: TRIM 3 | B27: TRIM NAME: | D27: ELASTIC BUTTON LOOP | H27: MATCH TO SELF (PENDING APPROVAL)
B28: TRIM CODE:
B29: SIZE: | D29: FIT TO BUTTON
B30: QUANTITY: | D30: AS NEEDED FOR 2 BUTTONS
B31: PLACEMENT: | D31: CB NECK OPENING
B32: VENDOR: | D32: VENDOR SOURCED
B33: SUPPLIER CONTACT INFO:
A34: TRIM 4 | B34: TRIM NAME: | D34: SELF COVERED DOME SHANK BUTTON - METAL BACK | H34: SELF COVERED, BACKING: SILVER
B35: TRIM CODE:
B36: SIZE: | D36: 16L
B37: QUANTITY: | D37: 2
B38: PLACEMENT: | D38: CB NECK OPENING
B39: VENDOR: | D39: VENDOR SOURCED
B40: SUPPLIER CONTACT INFO:
A41: NOTES SECTION:

Sheet BOM 3
A1: BOM 3 of 3
A2: STYLE NAME: | C2: =COVER!C2 -> LA BREA GOWN | E2: BRAND: | G2: =COVER!G2 -> LOVERS AND FRIENDS
A3: STYLE #: | C3: =COVER!C3 -> ACD2208-H22 | E3: CAPSULE: | G3: =COVER!G3 -> BRAND
A4: =COVER!A4 -> TARGET DEL. MONTH: | C4: =COVER!C4 -> NOVEMBER | E4: DESIGNER: | G4: =COVER!G4 -> KENDRA
A5: BASE SIZE: | C5: =COVER!C5 -> S | E5: TECH DESIGNER: | G5: =COVER!G5 -> JACQIE
A6: SIZE RANGE: | C6: =COVER!C6 -> XXS-XL | E6: VENDOR: | G6: =COVER!G6 -> SPRINGTEX
A7: THREAD
A8: THREAD | B8: TEX SIZE: | D8: 40 | H8: TOP STITCH THREAD | I8: TEX SIZE:
B9: FIBER CONTENT: | D9: POLY | F9: SPI: | I9: SPI:
B10: COLOR: | D10: DTM | I10: COLOR:
B11: PLACEMENT: | D11: ALL OVER | I11: PLACEMENT:
A12: MATERIALS | H12: COLORWAY 1 | J12: COLORWAY 2 | L12: COLORWAY 3
A13: TRIM 1 | B13: TRIM NAME: | D13: METAL PRONG SNAPS
B14: TRIM CODE:
B15: SIZE: | D15: 7MM (10L)
B16: QUANTITY: | D16: 2 SETS
B17: PLACEMENT: | D17: CROTCH OPENING
B18: VENDOR: | D18: SUPERTEX
B19: SUPPLIER CONTACT INFO:
A20: TRIM 2 | B20: TRIM NAME: | D20: ELASTIN
B21: TRIM CODE:
B22: SIZE: | D22: 1/4"
B23: QUANTITY: | D23: AS NEEDED
B24: PLACEMENT: | D24: PANTY LEG OPENING
B25: VENDOR: | D25: VENDOR SOURCE
B26: SUPPLIER CONTACT INFO:
A27: TRIM 3 | B27: TRIM NAME: | D27: TWILL TAPE
B28: TRIM CODE:
B29: SIZE:
B30: QUANTITY: | D30: YD
B31: PLACEMENT: | D31: FOR SNAPS @ PANTY
B32: VENDOR: | D32: VENDOR SOURCE
B33: SUPPLIER CONTACT INFO:
A34: TRIM 4 | B34: TRIM NAME:
B35: TRIM CODE:
B36: SIZE:
B37: QUANTITY:
B38: PLACEMENT:
B39: VENDOR:
B40: SUPPLIER CONTACT INFO:
A41: NOTES SECTION:

Sheet PATTERN CARD
A1: PATTERN CARD
A2: STYLE NAME: | C2: =COVER!C2 -> LA BREA GOWN | E2: BRAND: | G2: =COVER!G2 -> LOVERS AND FRIENDS
A3: STYLE #: | C3: =COVER!C3 -> ACD2208-H22 | E3: CAPSULE: | G3: =COVER!G3 -> BRAND
A4: =COVER!A4 -> TARGET DEL. MONTH: | C4: =COVER!C4 -> NOVEMBER | E4: DESIGNER: | G4: =COVER!G4 -> KENDRA
A5: BASE SIZE: | C5: =COVER!C5 -> S | E5: TECH DESIGNER: | G5: =COVER!G5 -> JACQIE
A6: SIZE RANGE: | C6: =COVER!C6 -> XXS-XL | E6: VENDOR: | G6: =COVER!G6 -> SPRINGTEX
A7: PATTERN PIECES | B7: PIECES CATEGORIES | G7: FUSE | H7: PIECE NAME
B8: SELF
B21: LINING
B28: TEMPLATE
B32: TEAR AWAY
B36: S/O

Sheet FIT COMMENTS-1st Proto
A1: FIT COMMENTS - 1st Proto
A2: STYLE NAME: | C2: =COVER!C2 -> LA BREA GOWN | E2: BRAND: | G2: =COVER!G2 -> LOVERS AND FRIENDS
A3: STYLE #: | C3: =COVER!C3 -> ACD2208-H22 | E3: CAPSULE: | G3: =COVER!G3 -> BRAND
A4: =COVER!A4 -> TARGET DEL. MONTH: | C4: =COVER!C4 -> NOVEMBER | E4: DESIGNER: | G4: =COVER!G4 -> KENDRA
A5: BASE SIZE: | C5: =COVER!C5 -> S | E5: TECH DESIGNER: | G5: =COVER!G5 -> JACQIE
A6: SIZE RANGE: | C6: =COVER!C6 -> XXS-XL | E6: VENDOR: | G6: =COVER!G6 -> SPRINGTEX

Sheet FIT COMMENTS-2nd Proto
A1: FIT COMMENTS - 2nd Proto
A2: STYLE NAME: | C2: =COVER!C2 -> LA BREA GOWN | E2: BRAND: | G2: =COVER!G2 -> LOVERS AND FRIENDS
A3: STYLE #: | C3: =COVER!C3 -> ACD2208-H22 | E3: CAPSULE: | G3: =COVER!G3 -> BRAND
A4: =COVER!A4 -> TARGET DEL. MONTH: | C4: =COVER!C4 -> NOVEMBER | E4: DESIGNER: | G4: =COVER!G4 -> KENDRA
A5: BASE SIZE: | C5: =COVER!C5 -> S | E5: TECH DESIGNER: | G5: =COVER!G5 -> JACQIE
A6: SIZE RANGE: | C6: =COVER!C6 -> XXS-XL | E6: VENDOR: | G6: =COVER!G6 -> SPRINGTEX

Sheet FIT COMMENTS-PP
A1: FIT COMMENTS - PP
A2: STYLE NAME: | C2: =COVER!C2 -> LA BREA GOWN | E2: BRAND: | G2: =COVER!G2 -> LOVERS AND FRIENDS
A3: STYLE #: | C3: =COVER!C3 -> ACD2208-H22 | E3: CAPSULE: | G3: =COVER!G3 -> BRAND
A4: =COVER!A4 -> TARGET DEL. MONTH: | C4: =COVER!C4 -> NOVEMBER | E4: DESIGNER: | G4: =COVER!G4 -> KENDRA
A5: BASE SIZE: | C5: =COVER!C5 -> S | E5: TECH DESIGNER: | G5: =COVER!G5 -> JACQIE
A6: SIZE RANGE: | C6: =COVER!C6 -> XXS-XL | E6: VENDOR: | G6: =COVER!G6 -> SPRINGTEX

Sheet FIT COMMENTS-2ndPP
A1: FIT COMMENTS - 2nd PP
A2: STYLE NAME: | C2: =COVER!C2 -> LA BREA GOWN | E2: BRAND: | G2: =COVER!G2 -> LOVERS AND FRIENDS
A3: STYLE #: | C3: =COVER!C3 -> ACD2208-H22 | E3: CAPSULE: | G3: =COVER!G3 -> BRAND
A4: =COVER!A4 -> TARGET DEL. MONTH: | C4: =COVER!C4 -> NOVEMBER | E4: DESIGNER: | G4: =COVER!G4 -> KENDRA
A5: BASE SIZE: | C5: =COVER!C5 -> S | E5: TECH DESIGNER: | G5: =COVER!G5 -> JACQIE
A6: SIZE RANGE: | C6: =COVER!C6 -> XXS-XL | E6: VENDOR: | G6: =COVER!G6 -> SPRINGTEX

Sheet FIT COMMENTS-TOP
A1: FIT COMMENTS - TOP
A2: STYLE NAME: | C2: =COVER!C2 -> LA BREA GOWN | E2: BRAND: | G2: =COVER!G2 -> LOVERS AND FRIENDS
A3: STYLE #: | C3: =COVER!C3 -> ACD2208-H22 | E3: CAPSULE: | G3: =COVER!G3 -> BRAND
A4: =COVER!A4 -> TARGET DEL. MONTH: | C4: =COVER!C4 -> NOVEMBER | E4: DESIGNER: | G4: =COVER!G4 -> KENDRA
A5: BASE SIZE: | C5: =COVER!C5 -> S | E5: TECH DESIGNER: | G5: =COVER!G5 -> JACQIE
A6: SIZE RANGE: | C6: =COVER!C6 -> XXS-XL | E6: VENDOR: | G6: =COVER!G6 -> SPRINGTEX

Sheet FIT COMMENTS-2nd Top
A1: FIT COMMENTS - 2nd TOP
A2: STYLE NAME: | C2: =COVER!C2 -> LA BREA GOWN | E2: BRAND: | G2: =COVER!G2 -> LOVERS AND FRIENDS
A3: STYLE #: | C3: =COVER!C3 -> ACD2208-H22 | E3: CAPSULE: | G3: =COVER!G3 -> BRAND
A4: =COVER!A4 -> TARGET DEL. MONTH: | C4: =COVER!C4 -> NOVEMBER | E4: DESIGNER: | G4: =COVER!G4 -> KENDRA
A5: BASE SIZE: | C5: =COVER!C5 -> S | E5: TECH DESIGNER: | G5: =COVER!G5 -> JACQIE
A6: SIZE RANGE: | C6: =COVER!C6 -> XXS-XL | E6: VENDOR: | G6: =COVER!G6 -> SPRINGTEX

Sheet QC SPEC SHEET
A1: PRODUCTION SPECS - GRADE
A2: STYLE NAME: | C2: =COVER!C2 -> LA BREA GOWN | E2: BRAND: | G2: =COVER!G2 -> LOVERS AND FRIENDS
A3: STYLE #: | C3: =COVER!C3 -> ACD2208-H22 | E3: CAPSULE: | G3: =COVER!G3 -> BRAND
A4: =COVER!A4 -> TARGET DEL. MONTH: | C4: =COVER!C4 -> NOVEMBER | E4: DESIGNER: | G4: =COVER!G4 -> KENDRA
A5: BASE SIZE: | C5: =COVER!C5 -> S | E5: TECH DESIGNER: | G5: =COVER!G5 -> JACQIE
A6: SIZE RANGE: | C6: =COVER!C6 -> XXS-XL | E6: VENDOR: | G6: =COVER!G6 -> SPRINGTEX
B7: POINT OF MEASURE (TOTAL CIRCUMFERENCE) | F7: TOL +/- | G7: XXS | H7: XXS QC | I7: XS | J7: XS QC | K7: S | L7: S QC | M7: M | N7: M QC | O7: L | P7: L QC | Q7: XL | R7: XL QC | S7: XXL | T7: XXL QC
A9: 1 | B9: ='DEVELOPMENT SPECS - POM 1'!B9:E9 -> CF LENGTH FROM TOP OF COWL AT CF TO HEM (FLAT) | F9: ='DEVELOPMENT SPECS - POM 1'!F9 -> 0.25 | G9: ='PRODUCTION SPECS - GRADE'!G9 -> 0 | I9: ='PRODUCTION SPECS - GRADE'!H9 -> 0 | K9: ='PRODUCTION SPECS - GRADE'!I9 -> 0 | M9: ='PRODUCTION SPECS - GRADE'!J9 -> 0 | O9: ='PRODUCTION SPECS - GRADE'!K9 -> 0 | Q9: ='PRODUCTION SPECS - GRADE'!L9 -> 0 | S9: ='PRODUCTION SPECS - GRADE'!M9 -> 0
A10: 2
A11: 3
A12: 4
A13: 5
A14: 6
A15: 7
A16: 8
A17: 9
A18: 10
A19: 11
A20: 12
A21: 13
... A42: 34
A43: NOTE: PLEASE REVISE ALL YELLOW HIGHLIGHTED POINTS
A44: NOTE: MEASURED SPECS IN BOLD RED ARE OUT OF TOLERANCE AND NEED TO BE BROUGHT BACK TO SPEC

Sheet DATA
A1: STRAPLESS, HALTER, SPAGHETTI, & OTHER NON-TRADITIONAL SHOULDER STYLES - TACK AND FOLD AT INTERIOR SIDE SEAMS WILL MEASURE APPROX. 8" FLAT WHEN FINISHED | O1: YES
A2: CROP TOP - TACK AND FOLD AT INTERIOR SIDE SEAMS WILL MEASURE APPROX. 8" FLAT WHEN FINISHED | O2: NO
A3: BOTTOM, SKIRTS - TACK AND FOLD AT INTERIOR SIDE SEAMS WILL MEASURE APPROX. 8" FLAT WHEN FINISHED

Sheet NBD LABEL
A1: LABEL PLACEMENTS
A2: STYLE NAME: | C2: =COVER!C2 -> LA BREA GOWN | E2: BRAND: | G2: =COVER!G2 -> LOVERS AND FRIENDS
A3: STYLE #: | C3: =COVER!C3 -> ACD2208-H22 | E3: CAPSULE: | G3: =COVER!G3 -> BRAND
A4: SEASON: | C4: =COVER!C4 -> NOVEMBER | E4: DESIGNER: | G4: =COVER!G4 -> KENDRA
A5: BASE SIZE: | C5: =COVER!C5 -> S | E5: TECH DESIGNER: | G5: =COVER!G5 -> JACQIE
A6: SIZE RANGE: | C6: =COVER!C6 -> XXS-XL | E6: VENDOR: | G6: =COVER!G6 -> SPRINGTEX
A7: MAIN LABEL | D7: SIZE LABEL | G7: CARE LABEL | J7: HANG TAG
A8: PLACEMENT: | B8: REFER TO FINISHING GUIDE | D8: PLACEMENT: | E8: REFER TO FINISHING GUIDE | G8: PLACEMENT: | H8: INSIDE WEARER'S LEFT SIDE SEAM | J8: PLACEMENT: | K8: LOOP THROUGH SIZE TAB
A9: VENDOR: | B9: TAGTIME | D9: SIZE RANGE: | E9: XXS-XL
D10: COUNTRY: | E10: CHINA/INDIA | G10: QUALITY | H10: BLACK SATIN | J10: VENDOR: | K10: TAGTIME
D11: VENDOR: | E11: TAGTIME | G11: VENDOR: | H11: VENDOR SOURCED
A21: HANGER TAPE
A22: PLACEMENT: | C22: BOTTOM, SKIRTS - TACK AND FOLD AT INTERIOR SIDE SEAMS WILL MEASURE APPROX. 8" FLAT WHEN FINISHED
A23: QUALITY: | C23: 1/4" BLACK SATIN | F23: QTY: | H23: 2
A24: VENDOR: | C24: VENDOR SOURCED | F24: REQUIRED: | H24: YES

Sheet X by NBD LABEL
A1: LABEL PLACEMENTS
A2: STYLE NAME: | C2: =COVER!C2 -> LA BREA GOWN | E2: BRAND: | G2: =COVER!G2 -> LOVERS AND FRIENDS
A3: STYLE #: | C3: =COVER!C3 -> ACD2208-H22 | E3: CAPSULE: | G3: =COVER!G3 -> BRAND
A4: SEASON: | C4: =COVER!C4 -> NOVEMBER | E4: DESIGNER: | G4: =COVER!G4 -> KENDRA
A5: BASE SIZE: | C5: =COVER!C5 -> S | E5: TECH DESIGNER: | G5: =COVER!G5 -> JACQIE
A6: SIZE RANGE: | C6: =COVER!C6 -> XXS-XL | E6: VENDOR: | G6: =COVER!G6 -> SPRINGTEX
A7: MAIN LABEL | D7: SIZE LABEL | G7: CARE LABEL | J7: HANG TAG
A8: PLACEMENT: | B8: REFER TO FINISHING GUIDE | D8: PLACEMENT: | E8: REFER TO FINISHING GUIDE | G8: PLACEMENT: | H8: INSIDE WEARER'S LEFT SIDE SEAM | J8: PLACEMENT: | K8: LOOP THROUGH SIZE TAB
A9: VENDOR: | B9: TAGTIME | D9: SIZE RANGE: | E9: XXS-XL
D10: COUNTRY: | E10: CHINA/INDIA | G10: QUALITY | H10: BLACK SATIN | J10: VENDOR: | K10: TAGTIME
D11: VENDOR: | E11: TAGTIME | G11: VENDOR: | H11: VENDOR SOURCED
A21: HANGER TAPE
A22: PLACEMENT: | C22: BOTTOM, SKIRTS - TACK AND FOLD AT INTERIOR SIDE SEAMS WILL MEASURE APPROX. 8" FLAT WHEN FINISHED
A23: QUALITY: | C23: 1/4" BLACK SATIN | F23: QTY: | H23: 2
A24: VENDOR: | C24: VENDOR SOURCED | F24: REQUIRED: | H24: YES

Sheet LPA LABEL
A1: LABEL PLACEMENTS
A2: STYLE NAME: | C2: =COVER!C2 -> LA BREA GOWN | E2: BRAND: | G2: =COVER!G2 -> LOVERS AND FRIENDS
A3: STYLE #: | C3: =COVER!C3 -> ACD2208-H22 | E3: CAPSULE: | G3: =COVER!G3 -> BRAND
A4: SEASON: | C4: =COVER!C4 -> NOVEMBER | E4: DESIGNER: | G4: =COVER!G4 -> KENDRA
A5: BASE SIZE: | C5: =COVER!C5 -> S | E5: TECH DESIGNER: | G5: =COVER!G5 -> JACQIE
A6: SIZE RANGE: | C6: =COVER!C6 -> XXS-XL | E6: VENDOR: | G6: =COVER!G6 -> SPRINGTEX
A7: MAIN LABEL | D7: SIZE LABEL | G7: CARE LABEL | J7: HANG TAG
A8: PLACEMENT: | B8: REFER TO FINISHING GUIDE | D8: PLACEMENT: | E8: REFER TO FINISHING GUIDE | G8: PLACEMENT: | H8: INSIDE WEARER'S LEFT SIDE SEAM | J8: PLACEMENT: | K8: LOOP THROUGH SIZE TAB
A9: VENDOR: | B9: TAGTIME | D9: SIZE RANGE: | E9: XXS-XL
D10: COUNTRY: | E10: CHINA/INDIA | G10: QUALITY | H10: WHITE SATIN | J10: VENDOR: | K10: TAGTIME
D11: VENDOR: | E11: TAGTIME | G11: VENDOR: | H11: VENDOR SOURCED
A21: HANGER TAPE
A22: PLACEMENT: | C22: BOTTOM, SKIRTS - TACK AND FOLD AT INTERIOR SIDE SEAMS WILL MEASURE APPROX. 8" FLAT WHEN FINISHED
A23: QUALITY: | C23: 1/4" BLACK SATIN | F23: QTY: | H23: 2
A24: VENDOR: | C24: VENDOR SOURCED | F24: REQUIRED: | H24: YES

Sheet DEVELOPMENT SPECS - POM 1
A1: DEVELOPMENT SPECS - POM 1
A2: STYLE NAME: | C2: =COVER!C2 -> LA BREA GOWN | E2: BRAND: | G2: =COVER!G2 -> LOVERS AND FRIENDS
A3: STYLE #: | C3: =COVER!C3 -> ACD2208-H22 | E3: CAPSULE: | G3: =COVER!G3 -> BRAND
A4: =COVER!A4 -> TARGET DEL. MONTH: | C4: =COVER!C4 -> NOVEMBER | E4: DESIGNER: | G4: =COVER!G4 -> KENDRA
A5: BASE SIZE: | C5: =COVER!C5 -> S | E5: TECH DESIGNER: | G5: =COVER!G5 -> JACQIE
A6: SIZE RANGE: | C6: =COVER!C6 -> XXS-XL | E6: VENDOR: | G6: =COVER!G6 -> SPRINGTEX
B7: POINT OF MEASURE (TOTAL CIRCUMFERENCE) | F7: TOL +/- | G7: INITIAL SPECS | H7: 1ST PROTO-8/10/22 | J7: 2ND PROTO | L7: PP | N7: 2ND PP | P7: TOP | Q7: COMMENTS
H8: ACTUAL SPEC | I8: TARGET SPEC | J8: ACTUAL SPEC | K8: TARGET SPEC | L8: ACTUAL SPEC | M8: TARGET SPEC | N8: ACTUAL SPEC | O8: TARGET SPEC
A9: 1 | B9: CF LENGTH FROM TOP OF COWL AT CF TO HEM (FLAT) | F9: 0.25 | G9: 62 | H9: 60.5 | I9: 59 | Q9: -1.5
B10: SS LENGTH FROM UA | F10: 0.375 | H10: 52.5 | I10: 51 | Q10: -1.5
B11: CB LENGTH FROM NECK EDGE | F11: 0.375 | H11: 46 | I11: 44.5 | Q11: -1.5
A12: 2 | B12: CHEST 1" BLW AH | F12: 0.5 | G12: 28 | H12: 35 | I12: 33 | Q12: -2
A13: 3 | B13: WAIST 6" BLW AH | F13: 0.5 | G13: 30.5 | H13: 30.5 | I13: 29.5 | Q13: -1
A14: 5 | B14: HIGH HIP 12" BLW AH | F14: 0.5 | G14: 37.5 | H14: 36 | I14: 36
B15: LOW HIP 18" BLW AH | F15: 0.5 | G15: 43.5 | H15: 40 | I15: 40
B16: BOTTOM OPENING (BACK ONLY) | F16: 0.5 | G16: 80 | H16: 20 | I16: 20
A17: 6 | B17: FRONT ARMHOLE ON CURVE FROM NECK EDGE | F17: 0.375
A18: 9
A19: 11 | B19: CB NECK HALTER JOIN HEIGHT | F19: 0.125 | H19: 34.75 | I19: 33.75 | Q19: -1
A20: 12 | B20: CB ZIPPER LENGTH | F20: 0.5 | G20: 9 | H20: 7.5 | I20: 6.5 | Q20: -1
A21: 13 | B21: SLIT TOP POINT FROM WL SS | F21: 0.125 | H21: 5 | I21: 4.5
A22: 14 | B22: SLIT LENGTH | F22: 0.5 | G22: 32 | H22: 32.25 | I22: 34.75 | Q22: -0.5
A23: 15 | B23: HANGER LOOP TAPE | F23: 0.25 | H23: 16 | I23: 16 | Q23: 2.5
A24: 16
A25: 17
A26: 18
A30: 19
A31: 20
A32: 21
A33: 22
A34: 23
A35: 24
A36: 25
A37: 26
A38: 27
... A45: 34
A46: NOTE: PLEASE REVISE ALL YELLOW HIGHLIGHTED POINTS
A47: NOTE: MEASURED SPECS IN BOLD RED ARE OUT OF TOLERANCE AND NEED TO BE BROUGHT BACK TO SPEC

Sheet PRODUCTION SPECS - GRADE
A1: PRODUCTION SPECS - GRADE
A2: STYLE NAME: | C2: =COVER!C2 -> LA BREA GOWN | E2: BRAND: | G2: =COVER!G2 -> LOVERS AND FRIENDS
A3: STYLE #: | C3: =COVER!C3 -> ACD2208-H22 | E3: CAPSULE: | G3: =COVER!G3 -> BRAND
A4: =COVER!A4 -> TARGET DEL. MONTH: | C4: =COVER!C4 -> NOVEMBER | E4: DESIGNER: | G4: =COVER!G4 -> KENDRA
A5: BASE SIZE: | C5: =COVER!C5 -> S | E5: TECH DESIGNER: | G5: =COVER!G5 -> JACQIE
A6: SIZE RANGE: | C6: =COVER!C6 -> XXS-XL | E6: VENDOR: | G6: =COVER!G6 -> SPRINGTEX
B7: POINT OF MEASURE (TOTAL CIRCUMFERENCE) | F7: TOL +/- | G7: XXS | H7: XS | I7: S | J7: M | K7: L | L7: XL | M7: XXL | N7: COMMENTS
A9: 1 | B9: ='DEVELOPMENT SPECS - POM 1'!B9:E9 -> CF LENGTH FROM TOP OF COWL AT CF TO HEM (FLAT) | F9: ='DEVELOPMENT SPECS - POM 1'!F9 -> 0.25
A10: 2
A11: 3
A12: 4
A13: 5
A14: 6
A15: 7
A16: 8
A17: 9
A18: 10
A19: 11
A20: 12
A21: 13
... A42: 34
A43: NOTE: PLEASE REVISE ALL YELLOW HIGHLIGHTED POINTS
A44: NOTE: MEASURED SPECS IN BOLD RED ARE OUT OF TOLERANCE AND NEED TO BE BROUGHT BACK TO SPEC

Sheet LF LABEL 
A1: LABEL PLACEMENTS
A2: STYLE NAME: | C2: =COVER!C2 -> LA BREA GOWN | E2: BRAND: | G2: =COVER!G2 -> LOVERS AND FRIENDS
A3: STYLE #: | C3: =COVER!C3 -> ACD2208-H22 | E3: CAPSULE: | G3: =COVER!G3 -> BRAND
A4: SEASON: | C4: =COVER!C4 -> NOVEMBER | E4: DESIGNER: | G4: =COVER!G4 -> KENDRA
A5: BASE SIZE: | C5: =COVER!C5 -> S | E5: TECH DESIGNER: | G5: =COVER!G5 -> JACQIE
A6: SIZE RANGE: | C6: =COVER!C6 -> XXS-XL | E6: VENDOR: | G6: =COVER!G6 -> SPRINGTEX
A7: MAIN LABEL | D7: SIZE LABEL | G7: CARE LABEL | J7: HANG TAG
A8: PLACEMENT: | B8: REFER TO FINISHING GUIDE | D8: PLACEMENT: | E8: REFER TO FINISHING GUIDE | G8: PLACEMENT: | H8: INSIDE WEARER'S LEFT SIDE SEAM | J8: PLACEMENT: | K8: LOOP THROUGH SIZE TAB
A9: VENDOR: | B9: TAGTIME | D9: SIZE RANGE: | E9: XXS-XL
D10: COUNTRY: | E10: CHINA/INDIA | G10: QUALITY | H10: WHITE SATIN | J10: VENDOR: | K10: TAGTIME
D11: VENDOR: | E11: TAGTIME | G11: VENDOR: | H11: VENDOR SOURCED
A21: HANGER TAPE
A22: PLACEMENT: | C22: STRAPLESS, HALTER, SPAGHETTI, & OTHER NON-TRADITIONAL SHOULDER STYLES - TACK AND FOLD AT INTERIOR SIDE SEAMS WILL MEASURE APPROX. 8" FLAT WHEN FINISHED
A23: QUALITY: | C23: 1/4" WHITE SATIN | F23: QTY: | H23: 2
A24: VENDOR: | C24: VENDOR SOURCED | F24: REQUIRED: | H24: YES

Sheet HOURS LABEL
A1: LABEL PLACEMENTS
A2: STYLE NAME: | C2: =COVER!C2 -> LA BREA GOWN | E2: BRAND: | G2: =COVER!G2 -> LOVERS AND FRIENDS
A3: STYLE #: | C3: =COVER!C3 -> ACD2208-H22 | E3: CAPSULE: | G3: =COVER!G3 -> BRAND
A4: SEASON: | C4: =COVER!C4 -> NOVEMBER | E4: DESIGNER: | G4: =COVER!G4 -> KENDRA
A5: BASE SIZE: | C5: =COVER!C5 -> S | E5: TECH DESIGNER: | G5: =COVER!G5 -> JACQIE
A6: SIZE RANGE: | C6: =COVER!C6 -> XXS-XL | E6: VENDOR: | G6: =COVER!G6 -> SPRINGTEX
A7: MAIN LABEL | D7: SIZE LABEL | G7: CARE LABEL | J7: HANG TAG
A8: PLACEMENT: | B8: REFER TO FINISHING GUIDE | D8: PLACEMENT: | E8: REFER TO FINISHING GUIDE | G8: PLACEMENT: | H8: INSIDE WEARER'S LEFT SIDE SEAM | J8: PLACEMENT: | K8: WEARER'S LEFT
A9: VENDOR: | B9: TAGTIME | D9: SIZE RANGE: | E9: XXS-XL
D10: COUNTRY: | E10: CHINA/INDIA | G10: QUALITY | H10: BLACK SATIN | J10: VENDOR: | K10: TAGTIME
D11: VENDOR: | E11: TAGTIME | G11: VENDOR: | H11: VENDOR SOURCED
A21: HANGER TAPE
A22: PLACEMENT: | C22: BOTTOM, SKIRTS - TACK AND FOLD AT INTERIOR SIDE SEAMS WILL MEASURE APPROX. 8" FLAT WHEN FINISHED
A23: QUALITY: | C23: 1/4" BLACK SATIN | F23: QTY: | H23: 2
A24: VENDOR: | C24: VENDOR SOURCED | F24: REQUIRED: | H24: YES

Sheet HOH LABEL
A1: LABEL PLACEMENTS
A2: STYLE NAME: | C2: =COVER!C2 -> LA BREA GOWN | E2: BRAND: | G2: =COVER!G2 -> LOVERS AND FRIENDS
A3: STYLE #: | C3: =COVER!C3 -> ACD2208-H22 | E3: CAPSULE: | G3: =COVER!G3 -> BRAND
A4: SEASON: | C4: =COVER!C4 -> NOVEMBER | E4: DESIGNER: | G4: =COVER!G4 -> KENDRA
A5: BASE SIZE: | C5: =COVER!C5 -> S | E5: TECH DESIGNER: | G5: =COVER!G5 -> JACQIE
A6: SIZE RANGE: | C6: =COVER!C6 -> XXS-XL | E6: VENDOR: | G6: =COVER!G6 -> SPRINGTEX
A7: MAIN LABEL | D7: SIZE LABEL | G7: CARE LABEL | J7: HANG TAG
A8: PLACEMENT: | B8: REFER TO FINISHING GUIDE | D8: PLACEMENT: | E8: REFER TO FINISHING GUIDE | G8: PLACEMENT: | H8: INSIDE WEARER'S LEFT SIDE SEAM | J8: PLACEMENT: | K8: WEARER'S LEFT
A9: VENDOR: | B9: TAGTIME | D9: SIZE RANGE: | E9: XXS-XL
D10: COUNTRY: | E10: CHINA/INDIA | G10: QUALITY | H10: BLACK SATIN | J10: VENDOR: | K10: TAGTIME
D11: VENDOR: | E11: TAGTIME | G11: VENDOR: | H11: VENDOR SOURCED
A21: HANGER TAPE
A22: PLACEMENT: | C22: BOTTOM, SKIRTS - TACK AND FOLD AT INTERIOR SIDE SEAMS WILL MEASURE APPROX. 8" FLAT WHEN FINISHED
A23: QUALITY: | C23: 1/4" BLACK SATIN | F23: QTY: | H23: 2
A24: VENDOR: | C24: VENDOR SOURCED | F24: REQUIRED: | H24: YES

Sheet TULA LABEL
A1: LABEL PLACEMENTS
A2: STYLE NAME: | C2: =COVER!C2 -> LA BREA GOWN | E2: BRAND: | G2: =COVER!G2 -> LOVERS AND FRIENDS
A3: STYLE #: | C3: =COVER!C3 -> ACD2208-H22 | E3: CAPSULE: | G3: =COVER!G3 -> BRAND
A4: SEASON: | C4: =COVER!C4 -> NOVEMBER | E4: DESIGNER: | G4: =COVER!G4 -> KENDRA
A5: BASE SIZE: | C5: =COVER!C5 -> S | E5: TECH DESIGNER: | G5: =COVER!G5 -> JACQIE
A6: SIZE RANGE: | C6: =COVER!C6 -> XXS-XL | E6: VENDOR: | G6: =COVER!G6 -> SPRINGTEX
A7: MAIN LABEL | D7: SIZE LABEL | G7: CARE LABEL | J7: HANG TAG
A8: PLACEMENT: | B8: REFER TO FINISHING GUIDE | D8: PLACEMENT: | E8: REFER TO FINISHING GUIDE | G8: PLACEMENT: | H8: INSIDE WEARER'S LEFT SIDE SEAM | J8: PLACEMENT: | K8: WEARER'S LEFT
A9: VENDOR: | B9: TAGTIME | D9: SIZE RANGE: | E9: XXS-XL
D10: COUNTRY: | E10: CHINA/INDIA | G10: QUALITY | H10: WHITE SATIN | J10: VENDOR: | K10: TAGTIME
D11: VENDOR: | E11: TAGTIME | G11: VENDOR: | H11: VENDOR SOURCED
A21: HANGER TAPE
A22: PLACEMENT: | C22: BOTTOM, SKIRTS - TACK AND FOLD AT INTERIOR SIDE SEAMS WILL MEASURE APPROX. 8" FLAT WHEN FINISHED
A23: QUALITY: | C23: 1/4" WHITE SATIN | F23: QTY: | H23: 2
A24: VENDOR: | C24: VENDOR SOURCED | F24: REQUIRED: | H24: YES

Sheet CHRISSY LABEL
A1: LABEL PLACEMENTS
A2: STYLE NAME: | C2: =COVER!C2 -> LA BREA GOWN | E2: BRAND: | G2: =COVER!G2 -> LOVERS AND FRIENDS
A3: STYLE #: | C3: =COVER!C3 -> ACD2208-H22 | E3: CAPSULE: | G3: =COVER!G3 -> BRAND
A4: SEASON: | C4: =COVER!C4 -> NOVEMBER | E4: DESIGNER: | G4: =COVER!G4 -> KENDRA
A5: BASE SIZE: | C5: =COVER!C5 -> S | E5: TECH DESIGNER: | G5: =COVER!G5 -> JACQIE
A6: SIZE RANGE: | C6: =COVER!C6 -> XXS-XL | E6: VENDOR: | G6: =COVER!G6 -> SPRINGTEX
A7: MAIN LABEL | D7: SIZE LABEL | G7: CARE LABEL | J7: HANG TAG
A8: PLACEMENT: | B8: REFER TO FINISHING GUIDE | D8: PLACEMENT: | E8: REFER TO FINISHING GUIDE | G8: PLACEMENT: | H8: INSIDE WEARER'S LEFT SIDE SEAM | J8: PLACEMENT: | K8: WEARER'S LEFT
A9: VENDOR: | B9: TAGTIME | D9: SIZE RANGE: | E9: XXS-XL
D10: COUNTRY: | E10: CHINA/INDIA | G10: QUALITY | H10: BLACK SATIN | J10: VENDOR: | K10: TAGTIME
D11: VENDOR: | E11: TAGTIME | G11: VENDOR: | H11: VENDOR SOURCED
A21: HANGER TAPE
A22: PLACEMENT: | C22: BOTTOM, SKIRTS - TACK AND FOLD AT INTERIOR SIDE SEAMS WILL MEASURE APPROX. 8" FLAT WHEN FINISHED
A23: QUALITY: | C23: 1/4" BLACK SATIN | F23: QTY: | H23: 2
A24: VENDOR: | C24: VENDOR SOURCED | F24: REQUIRED: | H24: YES

Sheet L'A LABEL
A1: LABEL PLACEMENTS
A2: STYLE NAME: | C2: =COVER!C2 -> LA BREA GOWN | E2: BRAND: | G2: =COVER!G2 -> LOVERS AND FRIENDS
A3: STYLE #: | C3: =COVER!C3 -> ACD2208-H22 | E3: CAPSULE: | G3: =COVER!G3 -> BRAND
A4: SEASON: | C4: =COVER!C4 -> NOVEMBER | E4: DESIGNER: | G4: =COVER!G4 -> KENDRA
A5: BASE SIZE: | C5: =COVER!C5 -> S | E5: TECH DESIGNER: | G5: =COVER!G5 -> JACQIE
A6: SIZE RANGE: | C6: =COVER!C6 -> XXS-XL | E6: VENDOR: | G6: =COVER!G6 -> SPRINGTEX
A7: MAIN LABEL | D7: SIZE LABEL | G7: CARE LABEL | J7: HANG TAG
A8: PLACEMENT: | B8: REFER TO FINISHING GUIDE | D8: PLACEMENT: | E8: REFER TO FINISHING GUIDE | G8: PLACEMENT: | H8: INSIDE WEARER'S LEFT SIDE SEAM | J8: PLACEMENT: | K8: LOOP THROUGH SIZE TAB
A9: VENDOR: | B9: TAGTIME | D9: SIZE RANGE: | E9: XXS-XL
D10: COUNTRY: | E10: CHINA/INDIA | G10: QUALITY | H10: WHITE SATIN | J10: VENDOR: | K10: TAGTIME
D11: VENDOR: | E11: TAGTIME | G11: VENDOR: | H11: VENDOR SOURCED
A21: HANGER TAPE
A22: PLACEMENT: | C22: BOTTOM, SKIRTS - TACK AND FOLD AT INTERIOR SIDE SEAMS WILL MEASURE APPROX. 8" FLAT WHEN FINISHED
A23: QUALITY: | C23: 1/4" WHITE SATIN | F23: QTY: | H23: 2
A24: VENDOR: | C24: VENDOR SOURCED | F24: REQUIRED: | H24: YES

Sheet PP LABEL
A1: LABEL PLACEMENTS
A2: STYLE NAME: | C2: =COVER!C2 -> LA BREA GOWN | E2: BRAND: | G2: =COVER!G2 -> LOVERS AND FRIENDS
A3: STYLE #: | C3: =COVER!C3 -> ACD2208-H22 | E3: CAPSULE: | G3: =COVER!G3 -> BRAND
A4: SEASON: | C4: =COVER!C4 -> NOVEMBER | E4: DESIGNER: | G4: =COVER!G4 -> KENDRA
A5: BASE SIZE: | C5: =COVER!C5 -> S | E5: TECH DESIGNER: | G5: =COVER!G5 -> JACQIE
A6: SIZE RANGE: | C6: =COVER!C6 -> XXS-XL | E6: VENDOR: | G6: =COVER!G6 -> SPRINGTEX
A7: MAIN LABEL | D7: SIZE LABEL | G7: CARE LABEL | J7: HANG TAG
A8: PLACEMENT: | B8: REFER TO FINISHING GUIDE | D8: PLACEMENT: | E8: REFER TO FINISHING GUIDE | G8: PLACEMENT: | H8: INSIDE WEARER'S LEFT SIDE SEAM | J8: PLACEMENT: | K8: WEARER'S LEFT
A9: VENDOR: | B9: TAGTIME | D9: SIZE RANGE: | E9: XXS-XL
D10: COUNTRY: | E10: CHINA/INDIA | G10: QUALITY | H10: WHITE SATIN | J10: VENDOR: | K10: TAGTIME
D11: VENDOR: | E11: TAGTIME | G11: VENDOR: | H11: VENDOR SOURCED
A21: HANGER TAPE
A22: PLACEMENT: | C22: BOTTOM, SKIRTS - TACK AND FOLD AT INTERIOR SIDE SEAMS WILL MEASURE APPROX. 8" FLAT WHEN FINISHED
A23: QUALITY: | C23: 1/4" WHITE SATIN | F23: QTY: | H23: 2
A24: VENDOR: | C24: VENDOR SOURCED | F24: REQUIRED: | H24: YES

Sheet MAJ LABEL
A1: LABEL PLACEMENTS
A2: STYLE NAME: | C2: =COVER!C2 -> LA BREA GOWN | E2: BRAND: | G2: =COVER!G2 -> LOVERS AND FRIENDS
A3: STYLE #: | C3: =COVER!C3 -> ACD2208-H22 | E3: CAPSULE: | G3: =COVER!G3 -> BRAND
A4: SEASON: | C4: =COVER!C4 -> NOVEMBER | E4: DESIGNER: | G4: =COVER!G4 -> KENDRA
A5: BASE SIZE: | C5: =COVER!C5 -> S | E5: TECH DESIGNER: | G5: =COVER!G5 -> JACQIE
A6: SIZE RANGE: | C6: =COVER!C6 -> XXS-XL | E6: VENDOR: | G6: =COVER!G6 -> SPRINGTEX
A7: MAIN LABEL | D7: SIZE LABEL | G7: CARE LABEL | J7: HANG TAG
A8: PLACEMENT: | B8: REFER TO FINISHING GUIDE | D8: PLACEMENT: | E8: REFER TO FINISHING GUIDE | G8: PLACEMENT: | H8: INSIDE WEARER'S LEFT SIDE SEAM | J8: PLACEMENT: | K8: WEARER'S LEFT
A9: VENDOR: | B9: TAGTIME | D9: SIZE RANGE: | E9: XXS-XL
D10: COUNTRY: | E10: CHINA/INDIA | G10: QUALITY | H10: BLACK SATIN | J10: VENDOR: | K10: TAGTIME
D11: VENDOR: | E11: TAGTIME | G11: VENDOR: | H11: VENDOR SOURCED
A21: HANGER TAPE
A22: PLACEMENT: | C22: BOTTOM, SKIRTS - TACK AND FOLD AT INTERIOR SIDE SEAMS WILL MEASURE APPROX. 8" FLAT WHEN FINISHED
A23: QUALITY: | C23: 1/4" BLACK SATIN | F23: QTY: | H23: 2
A24: VENDOR: | C24: VENDOR SOURCED | F24: REQUIRED: | H24: YES

Sheet ALE LABEL
A1: LABEL PLACEMENTS
A2: STYLE NAME: | C2: =COVER!C2 -> LA BREA GOWN | E2: BRAND: | G2: =COVER!G2 -> LOVERS AND FRIENDS
A3: STYLE #: | C3: =COVER!C3 -> ACD2208-H22 | E3: CAPSULE: | G3: =COVER!G3 -> BRAND
A4: SEASON: | C4: =COVER!C4 -> NOVEMBER | E4: DESIGNER: | G4: =COVER!G4 -> KENDRA
A5: BASE SIZE: | C5: =COVER!C5 -> S | E5: TECH DESIGNER: | G5: =COVER!G5 -> JACQIE
A6: SIZE RANGE: | C6: =COVER!C6 -> XXS-XL | E6: VENDOR: | G6: =COVER!G6 -> SPRINGTEX
A7: MAIN LABEL | D7: SIZE LABEL | G7: CARE LABEL | J7: HANG TAG
A8: PLACEMENT: | B8: REFER TO FINISHING GUIDE | D8: PLACEMENT: | E8: REFER TO FINISHING GUIDE | G8: PLACEMENT: | H8: INSIDE WEARER'S LEFT SIDE SEAM | J8: PLACEMENT: | K8: WEARER'S LEFT
A9: VENDOR: | B9: TAGTIME | D9: SIZE RANGE: | E9: XXS-XL
D10: COUNTRY: | E10: CHINA/INDIA | G10: QUALITY | H10: WHITE SATIN | J10: VENDOR: | K10: TAGTIME
D11: VENDOR: | E11: TAGTIME | G11: VENDOR: | H11: VENDOR SOURCED
A21: HANGER TAPE
A22: PLACEMENT: | C22: BOTTOM, SKIRTS - TACK AND FOLD AT INTERIOR SIDE SEAMS WILL MEASURE APPROX. 8" FLAT WHEN FINISHED
A23: QUALITY: | C23: 1/4" WHITE SATIN | F23: QTY: | H23: 2
A24: VENDOR: | C24: VENDOR SOURCED | F24: REQUIRED: | H24: YES

Sheet MC LABEL
A1: LABEL PLACEMENTS
A2: STYLE NAME: | C2: =COVER!C2 -> LA BREA GOWN | E2: BRAND: | G2: =COVER!G2 -> LOVERS AND FRIENDS
A3: STYLE #: | C3: =COVER!C3 -> ACD2208-H22 | E3: CAPSULE: | G3: =COVER!G3 -> BRAND
A4: SEASON: | C4: =COVER!C4 -> NOVEMBER | E4: DESIGNER: | G4: =COVER!G4 -> KENDRA
A5: BASE SIZE: | C5: =COVER!C5 -> S | E5: TECH DESIGNER: | G5: =COVER!G5 -> JACQIE
A6: SIZE RANGE: | C6: =COVER!C6 -> XXS-XL | E6: VENDOR: | G6: =COVER!G6 -> SPRINGTEX
A7: MAIN LABEL | D7: SIZE LABEL | G7: CARE LABEL | J7: HANG TAG
A8: PLACEMENT: | B8: REFER TO FINISHING GUIDE | D8: PLACEMENT: | E8: REFER TO FINISHING GUIDE | G8: PLACEMENT: | H8: INSIDE WEARER'S LEFT SIDE SEAM | J8: PLACEMENT: | K8: LOOP THROUGH SIZE TAB
A9: VENDOR: | B9: TAGTIME | D9: SIZE RANGE: | E9: XXS-XL
D10: COUNTRY: | E10: CHINA/INDIA | G10: QUALITY | H10: BLACK SATIN | J10: VENDOR: | K10: TAGTIME
D11: VENDOR: | E11: TAGTIME | G11: VENDOR: | H11: VENDOR SOURCED
A21: HANGER TAPE
A22: PLACEMENT: | C22: BOTTOM, SKIRTS - TACK AND FOLD AT INTERIOR SIDE SEAMS WILL MEASURE APPROX. 8" FLAT WHEN FINISHED
A23: QUALITY: | C23: 1/4" BLACK SATIN | F23: QTY: | H23: 2
A24: VENDOR: | C24: VENDOR SOURCED | F24: REQUIRED: | H24: YES

Sheet LOVEWAVE
A1: LABEL PLACEMENTS
A2: STYLE NAME: | C2: =COVER!C2 -> LA BREA GOWN | E2: BRAND: | G2: =COVER!G2 -> LOVERS AND FRIENDS
A3: STYLE #: | C3: =COVER!C3 -> ACD2208-H22 | E3: CAPSULE: | G3: =COVER!G3 -> BRAND
A4: SEASON: | C4: =COVER!C4 -> NOVEMBER | E4: DESIGNER: | G4: =COVER!G4 -> KENDRA
A5: BASE SIZE: | C5: =COVER!C5 -> S | E5: TECH DESIGNER: | G5: =COVER!G5 -> JACQIE
A6: SIZE RANGE: | C6: =COVER!C6 -> XXS-XL | E6: VENDOR: | G6: =COVER!G6 -> SPRINGTEX
A7: MAIN LABEL | D7: SIZE LABEL | G7: CARE LABEL | J7: HANG TAG
A8: PLACEMENT: | B8: REFER TO FINISHING GUIDE | D8: PLACEMENT: | E8: REFER TO FINISHING GUIDE | G8: PLACEMENT: | H8: REFER TO FINISHING GUIDE | J8: PLACEMENT: | K8: WEARER'S LEFT
A9: VENDOR: | B9: TAGTIME | D9: SIZE RANGE: | E9: XXS-XL
D10: COUNTRY: | E10: CHINA/INDIA | G10: QUALITY | H10: WHITE TEAR-AWAY | J10: VENDOR: | K10: TAGTIME
D11: VENDOR: | E11: TAGTIME | G11: VENDOR: | H11: VENDOR SOURCED

Sheet TULA SWIM
A1: LABEL PLACEMENTS
A2: STYLE NAME: | C2: =COVER!C2 -> LA BREA GOWN | E2: BRAND: | G2: =COVER!G2 -> LOVERS AND FRIENDS
A3: STYLE #: | C3: =COVER!C3 -> ACD2208-H22 | E3: CAPSULE: | G3: =COVER!G3 -> BRAND
A4: SEASON: | C4: =COVER!C4 -> NOVEMBER | E4: DESIGNER: | G4: =COVER!G4 -> KENDRA
A5: BASE SIZE: | C5: =COVER!C5 -> S | E5: TECH DESIGNER: | G5: =COVER!G5 -> JACQIE
A6: SIZE RANGE: | C6: =COVER!C6 -> XXS-XL | E6: VENDOR: | G6: =COVER!G6 -> SPRINGTEX
A7: MAIN LABEL | D7: SIZE LABEL | G7: CARE LABEL | J7: HANG TAG
A8: PLACEMENT: | B8: REFER TO FINISHING GUIDE | D8: PLACEMENT: | E8: REFER TO FINISHING GUIDE | G8: PLACEMENT: | H8: CENTER BACK | J8: PLACEMENT: | K8: WEARER'S LEFT
A9: VENDOR: | B9: TAGTIME | D9: SIZE RANGE: | E9: XS-XL
A10: COUNTRY: | B10: CHOOSE COO NEEDED | D10: COUNTRY: | E10: CHINA/INDIA | G10: QUALITY | H10: HEAT TRANSFER | J10: VENDOR: | K10: TAGTIME
A11: COLOR: | B11: BLACK | D11: VENDOR: | E11: TAGTIME | G11: VENDOR: | H11: VENDOR SOURCED

Sheet FILTER
A1: BLACK
A2: WHITE

Sheet LF SWIM
A1: LABEL PLACEMENTS
A2: STYLE NAME: | C2: =COVER!C2 -> LA BREA GOWN | E2: BRAND: | G2: =COVER!G2 -> LOVERS AND FRIENDS
A3: STYLE #: | C3: =COVER!C3 -> ACD2208-H22 | E3: CAPSULE: | G3: =COVER!G3 -> BRAND
A4: SEASON: | C4: =COVER!C4 -> NOVEMBER | E4: DESIGNER: | G4: =COVER!G4 -> KENDRA
A5: BASE SIZE: | C5: =COVER!C5 -> S | E5: TECH DESIGNER: | G5: =COVER!G5 -> JACQIE
A6: SIZE RANGE: | C6: =COVER!C6 -> XXS-XL | E6: VENDOR: | G6: =COVER!G6 -> SPRINGTEX
A7: MAIN LABEL | D7: SIZE LABEL | G7: CARE LABEL | J7: HANG TAG
A8: PLACEMENT: | B8: REFER TO FINISHING GUIDE | D8: PLACEMENT: | E8: REFER TO FINISHING GUIDE | G8: PLACEMENT: | H8: CENTER BACK | J8: PLACEMENT: | K8: WEARER'S LEFT
A9: VENDOR: | B9: TAGTIME | D9: SIZE RANGE: | E9: XS-XL
A10: COUNTRY: | B10: CHINA/INDIA | D10: COUNTRY: | E10: CHINA/INDIA | G10: QUALITY | H10: HEAT TRANSFER | J10: VENDOR: | K10: TAGTIME
A11: COLOR: | B11: BLACK | D11: VENDOR: | E11: TAGTIME | G11: VENDOR: | H11: VENDOR SOURCED

Sheet PP SWIM
A1: LABEL PLACEMENTS
A2: STYLE NAME: | C2: =COVER!C2 -> LA BREA GOWN | E2: BRAND: | G2: =COVER!G2 -> LOVERS AND FRIENDS
A3: STYLE #: | C3: =COVER!C3 -> ACD2208-H22 | E3: CAPSULE: | G3: =COVER!G3 -> BRAND
A4: SEASON: | C4: =COVER!C4 -> NOVEMBER | E4: DESIGNER: | G4: =COVER!G4 -> KENDRA
A5: BASE SIZE: | C5: =COVER!C5 -> S | E5: TECH DESIGNER: | G5: =COVER!G5 -> JACQIE
A6: SIZE RANGE: | C6: =COVER!C6 -> XXS-XL | E6: VENDOR: | G6: =COVER!G6 -> SPRINGTEX
A7: MAIN LABEL | D7: SIZE LABEL | G7: CARE LABEL | J7: HANG TAG
A8: PLACEMENT: | B8: REFER TO FINISHING GUIDE | D8: PLACEMENT: | E8: REFER TO FINISHING GUIDE | G8: PLACEMENT: | H8: CENTER BACK | J8: PLACEMENT: | K8: WEARER'S LEFT
A9: VENDOR: | B9: TAGTIME | D9: SIZE RANGE: | E9: XS-XL
A10: COUNTRY: | B10: CHINA/INDIA | D10: COUNTRY: | E10: CHINA/INDIA | G10: QUALITY | H10: HEAT TRANSFER | J10: VENDOR: | K10: TAGTIME
A11: COLOR: | B11: BLACK | D11: VENDOR: | E11: TAGTIME | G11: VENDOR: | H11: VENDOR SOURCED

Sheet NBD SWIM
A1: LABEL PLACEMENTS
A2: STYLE NAME: | C2: =COVER!C2 -> LA BREA GOWN | E2: BRAND: | G2: =COVER!G2 -> LOVERS AND FRIENDS
A3: STYLE #: | C3: =COVER!C3 -> ACD2208-H22 | E3: CAPSULE: | G3: =COVER!G3 -> BRAND
A4: SEASON: | C4: =COVER!C4 -> NOVEMBER | E4: DESIGNER: | G4: =COVER!G4 -> KENDRA
A5: BASE SIZE: | C5: =COVER!C5 -> S | E5: TECH DESIGNER: | G5: =COVER!G5 -> JACQIE
A6: SIZE RANGE: | C6: =COVER!C6 -> XXS-XL | E6: VENDOR: | G6: =COVER!G6 -> SPRINGTEX
A7: MAIN LABEL | D7: SIZE LABEL | G7: CARE LABEL | J7: HANG TAG
A8: PLACEMENT: | B8: REFER TO FINISHING GUIDE | D8: PLACEMENT: | E8: REFER TO FINISHING GUIDE | G8: PLACEMENT: | H8: CENTER BACK | J8: PLACEMENT: | K8: WEARER'S LEFT
A9: VENDOR: | B9: TAGTIME | D9: SIZE RANGE: | E9: XS-XL
A10: COUNTRY: | B10: CHINA/INDIA | D10: COUNTRY: | E10: CHINA/INDIA | G10: QUALITY | H10: HEAT TRANSFER | J10: VENDOR: | K10: TAGTIME
A11: COLOR: | B11: BLACK | D11: VENDOR: | E11: TAGTIME | G11: VENDOR: | H11: VENDOR SOURCED
